1.50000000000000
0.00000000000000
0.00000000000000
-1.50000000000000
542064.91670393059000
41680.37015808746200
