1.50000000000000
0.00000000000000
0.00000000000000
-1.50000000000000
392712.08955497481000
73380.04779995326000
