1.50000000000000
0.00000000000000
0.00000000000000
-1.50000000000000
563401.37173263612000
89228.33560169767600
