1.50000000000000
0.00000000000000
0.00000000000000
-1.50000000000000
542065.20047901128000
89228.46813465002900
