1.50000000000000
0.00000000000000
0.00000000000000
-1.50000000000000
520729.00174793223000
89228.67971353046600
