1.50000000000000
0.00000000000000
0.00000000000000
-1.50000000000000
499392.92652323574000
89228.98477721773100
