1.50000000000000
0.00000000000000
0.00000000000000
-1.50000000000000
478056.92529611842000
89230.74608266446700
