1.50000000000000
0.00000000000000
0.00000000000000
-1.50000000000000
456720.83761695714000
89228.67260096967200
