1.50000000000000
0.00000000000000
0.00000000000000
-1.50000000000000
435384.52449321066000
89229.48818615451500
