1.50000000000000
0.00000000000000
0.00000000000000
-1.50000000000000
414048.11825175484000
89229.55875634960800
