1.50000000000000
0.00000000000000
0.00000000000000
-1.50000000000000
392712.03273132798000
89229.59677339065800
