1.50000000000000
0.00000000000000
0.00000000000000
-1.50000000000000
371376.08479607198000
89228.03918148763500
