1.50000000000000
0.00000000000000
0.00000000000000
-1.50000000000000
499392.84096715535000
105078.65487940330000
