1.50000000000000
0.00000000000000
0.00000000000000
-1.50000000000000
478056.86250450613000
105080.46567057632000
