1.50000000000000
0.00000000000000
0.00000000000000
-1.50000000000000
456720.72864625917000
105080.63432618231000
