1.50000000000000
0.00000000000000
0.00000000000000
-1.50000000000000
435384.42392507475000
105080.66787662543000
