1.50000000000000
0.00000000000000
0.00000000000000
-1.50000000000000
414047.98547543486000
105080.56789299659000
