1.50000000000000
0.00000000000000
0.00000000000000
-1.50000000000000
392711.89467558160000
105077.54440082423000
