1.50000000000000
0.00000000000000
0.00000000000000
-1.50000000000000
371375.94421276834000
105077.48157505039000
