1.50000000000000
0.00000000000000
0.00000000000000
-1.50000000000000
499392.81507153902000
120929.91861711536000
