1.50000000000000
0.00000000000000
0.00000000000000
-1.50000000000000
478056.75482439366000
120928.64205984306000
