1.50000000000000
0.00000000000000
0.00000000000000
-1.50000000000000
456720.58005678974000
120928.80804100633000
