1.50000000000000
0.00000000000000
0.00000000000000
-1.50000000000000
435384.26022777491000
120930.28881610651000
