1.50000000000000
0.00000000000000
0.00000000000000
-1.50000000000000
414047.82378069736000
120930.05201635696000
