1.50000000000000
0.00000000000000
0.00000000000000
-1.50000000000000
392711.75211760524000
120927.00120741129000
