1.50000000000000
0.00000000000000
0.00000000000000
-1.50000000000000
371375.69208888145000
120928.41674990114000
