1.50000000000000
0.00000000000000
0.00000000000000
-1.50000000000000
499392.76900217484000
136779.73537147697000
