1.50000000000000
0.00000000000000
0.00000000000000
-1.50000000000000
478056.55777934601000
136778.30823810305000
