1.50000000000000
0.00000000000000
0.00000000000000
-1.50000000000000
456720.23550292227000
136778.36270849779000
