1.50000000000000
0.00000000000000
0.00000000000000
-1.50000000000000
435383.98402741749000
136778.32990737818000
