1.50000000000000
0.00000000000000
0.00000000000000
-1.50000000000000
414047.69434610248000
136778.11832545511000
