1.50000000000000
0.00000000000000
0.00000000000000
-1.50000000000000
392711.70687258919000
136778.06269248761000
