1.50000000000000
0.00000000000000
0.00000000000000
-1.50000000000000
499392.70143691311000
152629.59509962518000
