1.50000000000000
0.00000000000000
0.00000000000000
-1.50000000000000
478056.34600179002000
152629.53884945251000
