1.50000000000000
0.00000000000000
0.00000000000000
-1.50000000000000
456719.94417515094000
152629.45030679554000
