1.50000000000000
0.00000000000000
0.00000000000000
-1.50000000000000
435383.78109963005000
152627.93161462154000
