1.50000000000000
0.00000000000000
0.00000000000000
-1.50000000000000
414047.65784792602000
152627.78128015529000
