1.50000000000000
0.00000000000000
0.00000000000000
-1.50000000000000
392711.68927436747000
152627.74044505786000
