1.50000000000000
0.00000000000000
0.00000000000000
-1.50000000000000
371375.68797336111000
152629.16900874581000
