1.50000000000000
0.00000000000000
0.00000000000000
-1.50000000000000
350039.66152060195000
168477.18934954982000
