1.50000000000000
0.00000000000000
0.00000000000000
-1.50000000000000
499392.56665195216000
168479.37689535040000
