1.50000000000000
0.00000000000000
0.00000000000000
-1.50000000000000
478056.19699464319000
168477.75805512629000
