1.50000000000000
0.00000000000000
0.00000000000000
-1.50000000000000
456719.85240309848000
168479.17529186606000
