1.50000000000000
0.00000000000000
0.00000000000000
-1.50000000000000
435383.72605678689000
168479.11070456915000
