1.50000000000000
0.00000000000000
0.00000000000000
-1.50000000000000
414047.59444491949000
168476.72734186612000
