1.50000000000000
0.00000000000000
0.00000000000000
-1.50000000000000
392711.62000827125000
168477.36702855676000
