1.50000000000000
0.00000000000000
0.00000000000000
-1.50000000000000
371375.60760935087000
168477.31967277173000
