1.50000000000000
0.00000000000000
0.00000000000000
-1.50000000000000
350039.75924460875000
184328.36060737725000
