1.50000000000000
0.00000000000000
0.00000000000000
-1.50000000000000
328703.84313480800000
184326.62538775802000
