1.50000000000000
0.00000000000000
0.00000000000000
-1.50000000000000
499392.47183285130000
184327.72425663006000
